BEGIN:VCALENDAR
VERSION:2.0
PRODID:-//Multicultural Child And Family Hope Center - ECPv6.15.17.1//NONSGML v1.0//EN
CALSCALE:GREGORIAN
METHOD:PUBLISH
X-ORIGINAL-URL:https://mcfhc.org
X-WR-CALDESC:Events for Multicultural Child And Family Hope Center
REFRESH-INTERVAL;VALUE=DURATION:PT1H
X-Robots-Tag:noindex
X-PUBLISHED-TTL:PT1H
BEGIN:VTIMEZONE
TZID:America/Los_Angeles
BEGIN:DAYLIGHT
TZOFFSETFROM:-0800
TZOFFSETTO:-0700
TZNAME:PDT
DTSTART:20210314T100000
END:DAYLIGHT
BEGIN:STANDARD
TZOFFSETFROM:-0700
TZOFFSETTO:-0800
TZNAME:PST
DTSTART:20211107T090000
END:STANDARD
BEGIN:DAYLIGHT
TZOFFSETFROM:-0800
TZOFFSETTO:-0700
TZNAME:PDT
DTSTART:20220313T100000
END:DAYLIGHT
BEGIN:STANDARD
TZOFFSETFROM:-0700
TZOFFSETTO:-0800
TZNAME:PST
DTSTART:20221106T090000
END:STANDARD
BEGIN:DAYLIGHT
TZOFFSETFROM:-0800
TZOFFSETTO:-0700
TZNAME:PDT
DTSTART:20230312T100000
END:DAYLIGHT
BEGIN:STANDARD
TZOFFSETFROM:-0700
TZOFFSETTO:-0800
TZNAME:PST
DTSTART:20231105T090000
END:STANDARD
END:VTIMEZONE
BEGIN:VEVENT
DTSTART;TZID=America/Los_Angeles:20221209T190000
DTEND;TZID=America/Los_Angeles:20221209T220000
DTSTAMP:20260419T225009
CREATED:20220302T235528Z
LAST-MODIFIED:20220302T235528Z
UID:10000673-1670612400-1670623200@mcfhc.org
SUMMARY:Teen Late Night
DESCRIPTION:Original event website: Teen Late Night – Metro Parks Tacoma \nTeen Late Night\nNo Pre-registration Necessary! \nLate Night is a FREE event for teens! Join us at your Community Center for late night fun with your friends! We’ll have open gym\, sports\, activities\, and much more! \n \nSTAR Center\n(Boys & Girls Club Schatz Branch)\n1st Friday of every month\n7-10 pm | Grades 6-8\nOpen gym\, sports\, game room\, activities\, and much more \nEastside Community Center\n2nd Friday of every month\n7-10 pm | Grades 6-8\nPool activities\, water sports\, and open swim is available from 7:15-8:15 pm \nCenter at Norpoint\n3rd Friday of every month\n7-10 pm | Grades 6-8\nPool activities\, water sports\, and open swim is available from 7:15-8:15 pm \nPeople’s Community Center\n4th Friday of every month\n8-11 pm | Grades 9-12\nPool activities\, water sports\, and open swim is available from 7:15-8:15 pm
URL:https://mcfhc.org/event/teen-late-night-2/2022-12-09/
LOCATION:Eastside Community Center\, 1721 E 56th St\, Tacoma\, WA\, 98404\, United States
CATEGORIES:Community Events
END:VEVENT
BEGIN:VEVENT
DTSTART;TZID=America/Los_Angeles:20221111T190000
DTEND;TZID=America/Los_Angeles:20221111T220000
DTSTAMP:20260419T225009
CREATED:20220302T235528Z
LAST-MODIFIED:20220302T235528Z
UID:10000672-1668193200-1668204000@mcfhc.org
SUMMARY:Teen Late Night
DESCRIPTION:Original event website: Teen Late Night – Metro Parks Tacoma \nTeen Late Night\nNo Pre-registration Necessary! \nLate Night is a FREE event for teens! Join us at your Community Center for late night fun with your friends! We’ll have open gym\, sports\, activities\, and much more! \n \nSTAR Center\n(Boys & Girls Club Schatz Branch)\n1st Friday of every month\n7-10 pm | Grades 6-8\nOpen gym\, sports\, game room\, activities\, and much more \nEastside Community Center\n2nd Friday of every month\n7-10 pm | Grades 6-8\nPool activities\, water sports\, and open swim is available from 7:15-8:15 pm \nCenter at Norpoint\n3rd Friday of every month\n7-10 pm | Grades 6-8\nPool activities\, water sports\, and open swim is available from 7:15-8:15 pm \nPeople’s Community Center\n4th Friday of every month\n8-11 pm | Grades 9-12\nPool activities\, water sports\, and open swim is available from 7:15-8:15 pm
URL:https://mcfhc.org/event/teen-late-night-2/2022-11-11/
LOCATION:Eastside Community Center\, 1721 E 56th St\, Tacoma\, WA\, 98404\, United States
CATEGORIES:Community Events
END:VEVENT
BEGIN:VEVENT
DTSTART;TZID=America/Los_Angeles:20221014T190000
DTEND;TZID=America/Los_Angeles:20221014T220000
DTSTAMP:20260419T225009
CREATED:20220302T235528Z
LAST-MODIFIED:20220302T235528Z
UID:10000671-1665774000-1665784800@mcfhc.org
SUMMARY:Teen Late Night
DESCRIPTION:Original event website: Teen Late Night – Metro Parks Tacoma \nTeen Late Night\nNo Pre-registration Necessary! \nLate Night is a FREE event for teens! Join us at your Community Center for late night fun with your friends! We’ll have open gym\, sports\, activities\, and much more! \n \nSTAR Center\n(Boys & Girls Club Schatz Branch)\n1st Friday of every month\n7-10 pm | Grades 6-8\nOpen gym\, sports\, game room\, activities\, and much more \nEastside Community Center\n2nd Friday of every month\n7-10 pm | Grades 6-8\nPool activities\, water sports\, and open swim is available from 7:15-8:15 pm \nCenter at Norpoint\n3rd Friday of every month\n7-10 pm | Grades 6-8\nPool activities\, water sports\, and open swim is available from 7:15-8:15 pm \nPeople’s Community Center\n4th Friday of every month\n8-11 pm | Grades 9-12\nPool activities\, water sports\, and open swim is available from 7:15-8:15 pm
URL:https://mcfhc.org/event/teen-late-night-2/2022-10-14/
LOCATION:Eastside Community Center\, 1721 E 56th St\, Tacoma\, WA\, 98404\, United States
CATEGORIES:Community Events
END:VEVENT
BEGIN:VEVENT
DTSTART;TZID=America/Los_Angeles:20220909T190000
DTEND;TZID=America/Los_Angeles:20220909T220000
DTSTAMP:20260419T225009
CREATED:20220302T235528Z
LAST-MODIFIED:20220302T235528Z
UID:10000670-1662750000-1662760800@mcfhc.org
SUMMARY:Teen Late Night
DESCRIPTION:Original event website: Teen Late Night – Metro Parks Tacoma \nTeen Late Night\nNo Pre-registration Necessary! \nLate Night is a FREE event for teens! Join us at your Community Center for late night fun with your friends! We’ll have open gym\, sports\, activities\, and much more! \n \nSTAR Center\n(Boys & Girls Club Schatz Branch)\n1st Friday of every month\n7-10 pm | Grades 6-8\nOpen gym\, sports\, game room\, activities\, and much more \nEastside Community Center\n2nd Friday of every month\n7-10 pm | Grades 6-8\nPool activities\, water sports\, and open swim is available from 7:15-8:15 pm \nCenter at Norpoint\n3rd Friday of every month\n7-10 pm | Grades 6-8\nPool activities\, water sports\, and open swim is available from 7:15-8:15 pm \nPeople’s Community Center\n4th Friday of every month\n8-11 pm | Grades 9-12\nPool activities\, water sports\, and open swim is available from 7:15-8:15 pm
URL:https://mcfhc.org/event/teen-late-night-2/2022-09-09/
LOCATION:Eastside Community Center\, 1721 E 56th St\, Tacoma\, WA\, 98404\, United States
CATEGORIES:Community Events
END:VEVENT
BEGIN:VEVENT
DTSTART;TZID=America/Los_Angeles:20220812T190000
DTEND;TZID=America/Los_Angeles:20220812T220000
DTSTAMP:20260419T225009
CREATED:20220302T235528Z
LAST-MODIFIED:20220302T235528Z
UID:10000669-1660330800-1660341600@mcfhc.org
SUMMARY:Teen Late Night
DESCRIPTION:Original event website: Teen Late Night – Metro Parks Tacoma \nTeen Late Night\nNo Pre-registration Necessary! \nLate Night is a FREE event for teens! Join us at your Community Center for late night fun with your friends! We’ll have open gym\, sports\, activities\, and much more! \n \nSTAR Center\n(Boys & Girls Club Schatz Branch)\n1st Friday of every month\n7-10 pm | Grades 6-8\nOpen gym\, sports\, game room\, activities\, and much more \nEastside Community Center\n2nd Friday of every month\n7-10 pm | Grades 6-8\nPool activities\, water sports\, and open swim is available from 7:15-8:15 pm \nCenter at Norpoint\n3rd Friday of every month\n7-10 pm | Grades 6-8\nPool activities\, water sports\, and open swim is available from 7:15-8:15 pm \nPeople’s Community Center\n4th Friday of every month\n8-11 pm | Grades 9-12\nPool activities\, water sports\, and open swim is available from 7:15-8:15 pm
URL:https://mcfhc.org/event/teen-late-night-2/2022-08-12/
LOCATION:Eastside Community Center\, 1721 E 56th St\, Tacoma\, WA\, 98404\, United States
CATEGORIES:Community Events
END:VEVENT
BEGIN:VEVENT
DTSTART;TZID=America/Los_Angeles:20220708T190000
DTEND;TZID=America/Los_Angeles:20220708T220000
DTSTAMP:20260419T225009
CREATED:20220302T235528Z
LAST-MODIFIED:20220302T235528Z
UID:10000668-1657306800-1657317600@mcfhc.org
SUMMARY:Teen Late Night
DESCRIPTION:Original event website: Teen Late Night – Metro Parks Tacoma \nTeen Late Night\nNo Pre-registration Necessary! \nLate Night is a FREE event for teens! Join us at your Community Center for late night fun with your friends! We’ll have open gym\, sports\, activities\, and much more! \n \nSTAR Center\n(Boys & Girls Club Schatz Branch)\n1st Friday of every month\n7-10 pm | Grades 6-8\nOpen gym\, sports\, game room\, activities\, and much more \nEastside Community Center\n2nd Friday of every month\n7-10 pm | Grades 6-8\nPool activities\, water sports\, and open swim is available from 7:15-8:15 pm \nCenter at Norpoint\n3rd Friday of every month\n7-10 pm | Grades 6-8\nPool activities\, water sports\, and open swim is available from 7:15-8:15 pm \nPeople’s Community Center\n4th Friday of every month\n8-11 pm | Grades 9-12\nPool activities\, water sports\, and open swim is available from 7:15-8:15 pm
URL:https://mcfhc.org/event/teen-late-night-2/2022-07-08/
LOCATION:Eastside Community Center\, 1721 E 56th St\, Tacoma\, WA\, 98404\, United States
CATEGORIES:Community Events
END:VEVENT
BEGIN:VEVENT
DTSTART;TZID=America/Los_Angeles:20220610T190000
DTEND;TZID=America/Los_Angeles:20220610T220000
DTSTAMP:20260419T225009
CREATED:20220302T235528Z
LAST-MODIFIED:20220302T235528Z
UID:10000667-1654887600-1654898400@mcfhc.org
SUMMARY:Teen Late Night
DESCRIPTION:Original event website: Teen Late Night – Metro Parks Tacoma \nTeen Late Night\nNo Pre-registration Necessary! \nLate Night is a FREE event for teens! Join us at your Community Center for late night fun with your friends! We’ll have open gym\, sports\, activities\, and much more! \n \nSTAR Center\n(Boys & Girls Club Schatz Branch)\n1st Friday of every month\n7-10 pm | Grades 6-8\nOpen gym\, sports\, game room\, activities\, and much more \nEastside Community Center\n2nd Friday of every month\n7-10 pm | Grades 6-8\nPool activities\, water sports\, and open swim is available from 7:15-8:15 pm \nCenter at Norpoint\n3rd Friday of every month\n7-10 pm | Grades 6-8\nPool activities\, water sports\, and open swim is available from 7:15-8:15 pm \nPeople’s Community Center\n4th Friday of every month\n8-11 pm | Grades 9-12\nPool activities\, water sports\, and open swim is available from 7:15-8:15 pm
URL:https://mcfhc.org/event/teen-late-night-2/2022-06-10/
LOCATION:Eastside Community Center\, 1721 E 56th St\, Tacoma\, WA\, 98404\, United States
CATEGORIES:Community Events
END:VEVENT
BEGIN:VEVENT
DTSTART;TZID=America/Los_Angeles:20220513T190000
DTEND;TZID=America/Los_Angeles:20220513T220000
DTSTAMP:20260419T225009
CREATED:20220302T235528Z
LAST-MODIFIED:20220302T235528Z
UID:10000666-1652468400-1652479200@mcfhc.org
SUMMARY:Teen Late Night
DESCRIPTION:Original event website: Teen Late Night – Metro Parks Tacoma \nTeen Late Night\nNo Pre-registration Necessary! \nLate Night is a FREE event for teens! Join us at your Community Center for late night fun with your friends! We’ll have open gym\, sports\, activities\, and much more! \n \nSTAR Center\n(Boys & Girls Club Schatz Branch)\n1st Friday of every month\n7-10 pm | Grades 6-8\nOpen gym\, sports\, game room\, activities\, and much more \nEastside Community Center\n2nd Friday of every month\n7-10 pm | Grades 6-8\nPool activities\, water sports\, and open swim is available from 7:15-8:15 pm \nCenter at Norpoint\n3rd Friday of every month\n7-10 pm | Grades 6-8\nPool activities\, water sports\, and open swim is available from 7:15-8:15 pm \nPeople’s Community Center\n4th Friday of every month\n8-11 pm | Grades 9-12\nPool activities\, water sports\, and open swim is available from 7:15-8:15 pm
URL:https://mcfhc.org/event/teen-late-night-2/2022-05-13/
LOCATION:Eastside Community Center\, 1721 E 56th St\, Tacoma\, WA\, 98404\, United States
CATEGORIES:Community Events
END:VEVENT
BEGIN:VEVENT
DTSTART;TZID=America/Los_Angeles:20220408T190000
DTEND;TZID=America/Los_Angeles:20220408T220000
DTSTAMP:20260419T225009
CREATED:20220302T235528Z
LAST-MODIFIED:20220302T235528Z
UID:10000665-1649444400-1649455200@mcfhc.org
SUMMARY:Teen Late Night
DESCRIPTION:Original event website: Teen Late Night – Metro Parks Tacoma \nTeen Late Night\nNo Pre-registration Necessary! \nLate Night is a FREE event for teens! Join us at your Community Center for late night fun with your friends! We’ll have open gym\, sports\, activities\, and much more! \n \nSTAR Center\n(Boys & Girls Club Schatz Branch)\n1st Friday of every month\n7-10 pm | Grades 6-8\nOpen gym\, sports\, game room\, activities\, and much more \nEastside Community Center\n2nd Friday of every month\n7-10 pm | Grades 6-8\nPool activities\, water sports\, and open swim is available from 7:15-8:15 pm \nCenter at Norpoint\n3rd Friday of every month\n7-10 pm | Grades 6-8\nPool activities\, water sports\, and open swim is available from 7:15-8:15 pm \nPeople’s Community Center\n4th Friday of every month\n8-11 pm | Grades 9-12\nPool activities\, water sports\, and open swim is available from 7:15-8:15 pm
URL:https://mcfhc.org/event/teen-late-night-2/2022-04-08/
LOCATION:Eastside Community Center\, 1721 E 56th St\, Tacoma\, WA\, 98404\, United States
CATEGORIES:Community Events
END:VEVENT
BEGIN:VEVENT
DTSTART;TZID=America/Los_Angeles:20220311T190000
DTEND;TZID=America/Los_Angeles:20220311T220000
DTSTAMP:20260419T225009
CREATED:20220302T235528Z
LAST-MODIFIED:20220302T235528Z
UID:10000664-1647025200-1647036000@mcfhc.org
SUMMARY:Teen Late Night
DESCRIPTION:Original event website: Teen Late Night – Metro Parks Tacoma \nTeen Late Night\nNo Pre-registration Necessary! \nLate Night is a FREE event for teens! Join us at your Community Center for late night fun with your friends! We’ll have open gym\, sports\, activities\, and much more! \n \nSTAR Center\n(Boys & Girls Club Schatz Branch)\n1st Friday of every month\n7-10 pm | Grades 6-8\nOpen gym\, sports\, game room\, activities\, and much more \nEastside Community Center\n2nd Friday of every month\n7-10 pm | Grades 6-8\nPool activities\, water sports\, and open swim is available from 7:15-8:15 pm \nCenter at Norpoint\n3rd Friday of every month\n7-10 pm | Grades 6-8\nPool activities\, water sports\, and open swim is available from 7:15-8:15 pm \nPeople’s Community Center\n4th Friday of every month\n8-11 pm | Grades 9-12\nPool activities\, water sports\, and open swim is available from 7:15-8:15 pm
URL:https://mcfhc.org/event/teen-late-night-2/2022-03-11/
LOCATION:Eastside Community Center\, 1721 E 56th St\, Tacoma\, WA\, 98404\, United States
CATEGORIES:Community Events
END:VEVENT
BEGIN:VEVENT
DTSTART;TZID=America/Los_Angeles:20220117T110000
DTEND;TZID=America/Los_Angeles:20220117T130000
DTSTAMP:20260419T225009
CREATED:20220110T190439Z
LAST-MODIFIED:20220110T190439Z
UID:10000652-1642417200-1642424400@mcfhc.org
SUMMARY:Awakening Dreams: MLK Day
DESCRIPTION:The Imagine Justice Project and community partners are coming together to honor and celebrate the life\, message\, and accomplishments of Dr. Martin Luther King Jr. They’re planning a fun day of community building for the whole family. Eat food\, do crafts\, play games and win prizes all while getting connected to community resources at no cost!
URL:https://mcfhc.org/event/awakening-dreams-mlk-day/
LOCATION:Eastside Community Center\, 1721 E 56th St\, Tacoma\, WA\, 98404\, United States
CATEGORIES:Community Events
END:VEVENT
END:VCALENDAR