BEGIN:VCALENDAR
VERSION:2.0
PRODID:-//Multicultural Child And Family Hope Center - ECPv6.15.17.1//NONSGML v1.0//EN
CALSCALE:GREGORIAN
METHOD:PUBLISH
X-ORIGINAL-URL:https://mcfhc.org
X-WR-CALDESC:Events for Multicultural Child And Family Hope Center
REFRESH-INTERVAL;VALUE=DURATION:PT1H
X-Robots-Tag:noindex
X-PUBLISHED-TTL:PT1H
BEGIN:VTIMEZONE
TZID:America/Los_Angeles
BEGIN:DAYLIGHT
TZOFFSETFROM:-0800
TZOFFSETTO:-0700
TZNAME:PDT
DTSTART:20200308T100000
END:DAYLIGHT
BEGIN:STANDARD
TZOFFSETFROM:-0700
TZOFFSETTO:-0800
TZNAME:PST
DTSTART:20201101T090000
END:STANDARD
BEGIN:DAYLIGHT
TZOFFSETFROM:-0800
TZOFFSETTO:-0700
TZNAME:PDT
DTSTART:20210314T100000
END:DAYLIGHT
BEGIN:STANDARD
TZOFFSETFROM:-0700
TZOFFSETTO:-0800
TZNAME:PST
DTSTART:20211107T090000
END:STANDARD
BEGIN:DAYLIGHT
TZOFFSETFROM:-0800
TZOFFSETTO:-0700
TZNAME:PDT
DTSTART:20220313T100000
END:DAYLIGHT
BEGIN:STANDARD
TZOFFSETFROM:-0700
TZOFFSETTO:-0800
TZNAME:PST
DTSTART:20221106T090000
END:STANDARD
BEGIN:DAYLIGHT
TZOFFSETFROM:-0800
TZOFFSETTO:-0700
TZNAME:PDT
DTSTART:20230312T100000
END:DAYLIGHT
BEGIN:STANDARD
TZOFFSETFROM:-0700
TZOFFSETTO:-0800
TZNAME:PST
DTSTART:20231105T090000
END:STANDARD
END:VTIMEZONE
BEGIN:VEVENT
DTSTART;TZID=America/Los_Angeles:20220117T200000
DTEND;TZID=America/Los_Angeles:20220117T210000
DTSTAMP:20260419T093521
CREATED:20220110T185139Z
LAST-MODIFIED:20220110T185139Z
UID:10000644-1642449600-1642453200@mcfhc.org
SUMMARY:Hope & Healing MLK Celebration
DESCRIPTION:Ms. Gail has been selected as the recipient of the 2022 Martin Luther King\, Jr. Lifetime Service Award. The award honors an individual or a group that has been dedicated to offering services to a given community or population. She will be presented this award during the MLK Birthday Celebration on TV Tacoma on January 17\, 2022. We are so proud of and so thankful for our Gail\, what a great way to start the year (: \nWatch the event on TV Tacoma or streamed live on tvtacoma.com or Facebook. It will be televised throughout January 2022 on TV Tacoma. \nFor more information on the event check out this article by the City of Tacoma: Annual Martin Luther King\, Jr. Birthday Celebration – City of Tacoma
URL:https://mcfhc.org/event/hope-healing-mlk-celebration/
END:VEVENT
BEGIN:VEVENT
DTSTART;TZID=America/Los_Angeles:20210904T120000
DTEND;TZID=America/Los_Angeles:20210904T213000
DTSTAMP:20260419T093521
CREATED:20210826T184414Z
LAST-MODIFIED:20210826T184414Z
UID:10001122-1630756800-1630791000@mcfhc.org
SUMMARY:Summer Blast at Dune Peninsula
DESCRIPTION:Come out to Dune Peninsula for a free family event featuring live music\, food trucks\, a craft market and fireworks! \nTacoma Night Market: 12 – 8 pm\nMusic: 12:30-8:45 pm \nPerformance Schedule \n\n12:30-1:15 pm\nDJ ZETA\n1:30- 3:00 pm\nBarracuda (HEART tribute band)\n3:15-4:45 pm\nWasted on the Way (Crosby\, Stills & Nash tribute band)\n5:00-6:30 pm\nPetty Fever (Tom Petty & the Heartbreakers tribute band)\n6:45-8:45 pm\nKALIMBA ( Earth\, Wind & Fire tribute band)\n\nFireworks will be viewable from many locations along Ruston Way. Location of the fireworks barge is indicated on the map on event website.
URL:https://mcfhc.org/event/summer-blast-at-dune-peninsula/
LOCATION:Dune Peninsula at Pt Defiance Park\, 5361 Yacht Club Rd\, Tacoma\, WA\, 98405\, United States
CATEGORIES:Community Events
END:VEVENT
END:VCALENDAR