BEGIN:VCALENDAR
VERSION:2.0
PRODID:-//Multicultural Child And Family Hope Center - ECPv6.15.17.1//NONSGML v1.0//EN
CALSCALE:GREGORIAN
METHOD:PUBLISH
X-WR-CALNAME:Multicultural Child And Family Hope Center
X-ORIGINAL-URL:https://mcfhc.org
X-WR-CALDESC:Events for Multicultural Child And Family Hope Center
REFRESH-INTERVAL;VALUE=DURATION:PT1H
X-Robots-Tag:noindex
X-PUBLISHED-TTL:PT1H
BEGIN:VTIMEZONE
TZID:America/Los_Angeles
BEGIN:DAYLIGHT
TZOFFSETFROM:-0800
TZOFFSETTO:-0700
TZNAME:PDT
DTSTART:20220313T100000
END:DAYLIGHT
BEGIN:STANDARD
TZOFFSETFROM:-0700
TZOFFSETTO:-0800
TZNAME:PST
DTSTART:20221106T090000
END:STANDARD
BEGIN:DAYLIGHT
TZOFFSETFROM:-0800
TZOFFSETTO:-0700
TZNAME:PDT
DTSTART:20230312T100000
END:DAYLIGHT
BEGIN:STANDARD
TZOFFSETFROM:-0700
TZOFFSETTO:-0800
TZNAME:PST
DTSTART:20231105T090000
END:STANDARD
BEGIN:DAYLIGHT
TZOFFSETFROM:-0800
TZOFFSETTO:-0700
TZNAME:PDT
DTSTART:20240310T100000
END:DAYLIGHT
BEGIN:STANDARD
TZOFFSETFROM:-0700
TZOFFSETTO:-0800
TZNAME:PST
DTSTART:20241103T090000
END:STANDARD
END:VTIMEZONE
BEGIN:VEVENT
DTSTART;TZID=America/Los_Angeles:20230301T113000
DTEND;TZID=America/Los_Angeles:20230301T123000
DTSTAMP:20260419T114429
CREATED:20210824T224230Z
LAST-MODIFIED:20211115T225354Z
UID:10000864-1677670200-1677673800@mcfhc.org
SUMMARY:Women's and Mom's Support Group
DESCRIPTION:The Women’s and Mom’s group provides support to those currently experiencing or who have previously experienced domestic violence\, housing instability\, at-risk of homelessness\, currently homeless\, and/or in recovery. Research-based parenting programs (Triple P\, Safe Care\, and Families Moving Forward) were utilized to gather the most pertinent and impactful information to create a tailored curriculum. The group focuses on parenting strategies\, trauma informed parenting\, resiliency\, executive functioning\, women empowerment\, and financial education.
URL:https://mcfhc.org/event/womens-and-moms-support-group/2023-03-01/
LOCATION:Tacoma Recovery Center\, 813 M.L.K. Jr Way\, Tacoma\, WA\, 98405\, United States
CATEGORIES:MCFHC Events
END:VEVENT
BEGIN:VEVENT
DTSTART;TZID=America/Los_Angeles:20230303T113000
DTEND;TZID=America/Los_Angeles:20230303T123000
DTSTAMP:20260419T114429
CREATED:20210824T224230Z
LAST-MODIFIED:20211115T225354Z
UID:10000865-1677843000-1677846600@mcfhc.org
SUMMARY:Women's and Mom's Support Group
DESCRIPTION:The Women’s and Mom’s group provides support to those currently experiencing or who have previously experienced domestic violence\, housing instability\, at-risk of homelessness\, currently homeless\, and/or in recovery. Research-based parenting programs (Triple P\, Safe Care\, and Families Moving Forward) were utilized to gather the most pertinent and impactful information to create a tailored curriculum. The group focuses on parenting strategies\, trauma informed parenting\, resiliency\, executive functioning\, women empowerment\, and financial education.
URL:https://mcfhc.org/event/womens-and-moms-support-group/2023-03-03/
LOCATION:Tacoma Recovery Center\, 813 M.L.K. Jr Way\, Tacoma\, WA\, 98405\, United States
CATEGORIES:MCFHC Events
END:VEVENT
BEGIN:VEVENT
DTSTART;TZID=America/Los_Angeles:20230308T113000
DTEND;TZID=America/Los_Angeles:20230308T123000
DTSTAMP:20260419T114429
CREATED:20210824T224230Z
LAST-MODIFIED:20211115T225354Z
UID:10000866-1678275000-1678278600@mcfhc.org
SUMMARY:Women's and Mom's Support Group
DESCRIPTION:The Women’s and Mom’s group provides support to those currently experiencing or who have previously experienced domestic violence\, housing instability\, at-risk of homelessness\, currently homeless\, and/or in recovery. Research-based parenting programs (Triple P\, Safe Care\, and Families Moving Forward) were utilized to gather the most pertinent and impactful information to create a tailored curriculum. The group focuses on parenting strategies\, trauma informed parenting\, resiliency\, executive functioning\, women empowerment\, and financial education.
URL:https://mcfhc.org/event/womens-and-moms-support-group/2023-03-08/
LOCATION:Tacoma Recovery Center\, 813 M.L.K. Jr Way\, Tacoma\, WA\, 98405\, United States
CATEGORIES:MCFHC Events
END:VEVENT
BEGIN:VEVENT
DTSTART;TZID=America/Los_Angeles:20230310T113000
DTEND;TZID=America/Los_Angeles:20230310T123000
DTSTAMP:20260419T114429
CREATED:20210824T224230Z
LAST-MODIFIED:20211115T225354Z
UID:10000867-1678447800-1678451400@mcfhc.org
SUMMARY:Women's and Mom's Support Group
DESCRIPTION:The Women’s and Mom’s group provides support to those currently experiencing or who have previously experienced domestic violence\, housing instability\, at-risk of homelessness\, currently homeless\, and/or in recovery. Research-based parenting programs (Triple P\, Safe Care\, and Families Moving Forward) were utilized to gather the most pertinent and impactful information to create a tailored curriculum. The group focuses on parenting strategies\, trauma informed parenting\, resiliency\, executive functioning\, women empowerment\, and financial education.
URL:https://mcfhc.org/event/womens-and-moms-support-group/2023-03-10/
LOCATION:Tacoma Recovery Center\, 813 M.L.K. Jr Way\, Tacoma\, WA\, 98405\, United States
CATEGORIES:MCFHC Events
END:VEVENT
BEGIN:VEVENT
DTSTART;TZID=America/Los_Angeles:20230315T113000
DTEND;TZID=America/Los_Angeles:20230315T123000
DTSTAMP:20260419T114429
CREATED:20210824T224230Z
LAST-MODIFIED:20211115T225354Z
UID:10000868-1678879800-1678883400@mcfhc.org
SUMMARY:Women's and Mom's Support Group
DESCRIPTION:The Women’s and Mom’s group provides support to those currently experiencing or who have previously experienced domestic violence\, housing instability\, at-risk of homelessness\, currently homeless\, and/or in recovery. Research-based parenting programs (Triple P\, Safe Care\, and Families Moving Forward) were utilized to gather the most pertinent and impactful information to create a tailored curriculum. The group focuses on parenting strategies\, trauma informed parenting\, resiliency\, executive functioning\, women empowerment\, and financial education.
URL:https://mcfhc.org/event/womens-and-moms-support-group/2023-03-15/
LOCATION:Tacoma Recovery Center\, 813 M.L.K. Jr Way\, Tacoma\, WA\, 98405\, United States
CATEGORIES:MCFHC Events
END:VEVENT
BEGIN:VEVENT
DTSTART;TZID=America/Los_Angeles:20230317T113000
DTEND;TZID=America/Los_Angeles:20230317T123000
DTSTAMP:20260419T114429
CREATED:20210824T224230Z
LAST-MODIFIED:20211115T225354Z
UID:10000869-1679052600-1679056200@mcfhc.org
SUMMARY:Women's and Mom's Support Group
DESCRIPTION:The Women’s and Mom’s group provides support to those currently experiencing or who have previously experienced domestic violence\, housing instability\, at-risk of homelessness\, currently homeless\, and/or in recovery. Research-based parenting programs (Triple P\, Safe Care\, and Families Moving Forward) were utilized to gather the most pertinent and impactful information to create a tailored curriculum. The group focuses on parenting strategies\, trauma informed parenting\, resiliency\, executive functioning\, women empowerment\, and financial education.
URL:https://mcfhc.org/event/womens-and-moms-support-group/2023-03-17/
LOCATION:Tacoma Recovery Center\, 813 M.L.K. Jr Way\, Tacoma\, WA\, 98405\, United States
CATEGORIES:MCFHC Events
END:VEVENT
BEGIN:VEVENT
DTSTART;TZID=America/Los_Angeles:20230322T113000
DTEND;TZID=America/Los_Angeles:20230322T123000
DTSTAMP:20260419T114429
CREATED:20210824T224230Z
LAST-MODIFIED:20211115T225354Z
UID:10000870-1679484600-1679488200@mcfhc.org
SUMMARY:Women's and Mom's Support Group
DESCRIPTION:The Women’s and Mom’s group provides support to those currently experiencing or who have previously experienced domestic violence\, housing instability\, at-risk of homelessness\, currently homeless\, and/or in recovery. Research-based parenting programs (Triple P\, Safe Care\, and Families Moving Forward) were utilized to gather the most pertinent and impactful information to create a tailored curriculum. The group focuses on parenting strategies\, trauma informed parenting\, resiliency\, executive functioning\, women empowerment\, and financial education.
URL:https://mcfhc.org/event/womens-and-moms-support-group/2023-03-22/
LOCATION:Tacoma Recovery Center\, 813 M.L.K. Jr Way\, Tacoma\, WA\, 98405\, United States
CATEGORIES:MCFHC Events
END:VEVENT
BEGIN:VEVENT
DTSTART;TZID=America/Los_Angeles:20230324T113000
DTEND;TZID=America/Los_Angeles:20230324T123000
DTSTAMP:20260419T114429
CREATED:20210824T224230Z
LAST-MODIFIED:20211115T225354Z
UID:10000871-1679657400-1679661000@mcfhc.org
SUMMARY:Women's and Mom's Support Group
DESCRIPTION:The Women’s and Mom’s group provides support to those currently experiencing or who have previously experienced domestic violence\, housing instability\, at-risk of homelessness\, currently homeless\, and/or in recovery. Research-based parenting programs (Triple P\, Safe Care\, and Families Moving Forward) were utilized to gather the most pertinent and impactful information to create a tailored curriculum. The group focuses on parenting strategies\, trauma informed parenting\, resiliency\, executive functioning\, women empowerment\, and financial education.
URL:https://mcfhc.org/event/womens-and-moms-support-group/2023-03-24/
LOCATION:Tacoma Recovery Center\, 813 M.L.K. Jr Way\, Tacoma\, WA\, 98405\, United States
CATEGORIES:MCFHC Events
END:VEVENT
BEGIN:VEVENT
DTSTART;TZID=America/Los_Angeles:20230329T113000
DTEND;TZID=America/Los_Angeles:20230329T123000
DTSTAMP:20260419T114429
CREATED:20210824T224230Z
LAST-MODIFIED:20211115T225354Z
UID:10000872-1680089400-1680093000@mcfhc.org
SUMMARY:Women's and Mom's Support Group
DESCRIPTION:The Women’s and Mom’s group provides support to those currently experiencing or who have previously experienced domestic violence\, housing instability\, at-risk of homelessness\, currently homeless\, and/or in recovery. Research-based parenting programs (Triple P\, Safe Care\, and Families Moving Forward) were utilized to gather the most pertinent and impactful information to create a tailored curriculum. The group focuses on parenting strategies\, trauma informed parenting\, resiliency\, executive functioning\, women empowerment\, and financial education.
URL:https://mcfhc.org/event/womens-and-moms-support-group/2023-03-29/
LOCATION:Tacoma Recovery Center\, 813 M.L.K. Jr Way\, Tacoma\, WA\, 98405\, United States
CATEGORIES:MCFHC Events
END:VEVENT
BEGIN:VEVENT
DTSTART;TZID=America/Los_Angeles:20230331T113000
DTEND;TZID=America/Los_Angeles:20230331T123000
DTSTAMP:20260419T114429
CREATED:20210824T224230Z
LAST-MODIFIED:20211115T225354Z
UID:10000873-1680262200-1680265800@mcfhc.org
SUMMARY:Women's and Mom's Support Group
DESCRIPTION:The Women’s and Mom’s group provides support to those currently experiencing or who have previously experienced domestic violence\, housing instability\, at-risk of homelessness\, currently homeless\, and/or in recovery. Research-based parenting programs (Triple P\, Safe Care\, and Families Moving Forward) were utilized to gather the most pertinent and impactful information to create a tailored curriculum. The group focuses on parenting strategies\, trauma informed parenting\, resiliency\, executive functioning\, women empowerment\, and financial education.
URL:https://mcfhc.org/event/womens-and-moms-support-group/2023-03-31/
LOCATION:Tacoma Recovery Center\, 813 M.L.K. Jr Way\, Tacoma\, WA\, 98405\, United States
CATEGORIES:MCFHC Events
END:VEVENT
END:VCALENDAR