BEGIN:VCALENDAR
VERSION:2.0
PRODID:-//Multicultural Child And Family Hope Center - ECPv6.15.17.1//NONSGML v1.0//EN
CALSCALE:GREGORIAN
METHOD:PUBLISH
X-ORIGINAL-URL:https://mcfhc.org
X-WR-CALDESC:Events for Multicultural Child And Family Hope Center
REFRESH-INTERVAL;VALUE=DURATION:PT1H
X-Robots-Tag:noindex
X-PUBLISHED-TTL:PT1H
BEGIN:VTIMEZONE
TZID:America/Los_Angeles
BEGIN:DAYLIGHT
TZOFFSETFROM:-0800
TZOFFSETTO:-0700
TZNAME:PDT
DTSTART:20210314T100000
END:DAYLIGHT
BEGIN:STANDARD
TZOFFSETFROM:-0700
TZOFFSETTO:-0800
TZNAME:PST
DTSTART:20211107T090000
END:STANDARD
BEGIN:DAYLIGHT
TZOFFSETFROM:-0800
TZOFFSETTO:-0700
TZNAME:PDT
DTSTART:20220313T100000
END:DAYLIGHT
BEGIN:STANDARD
TZOFFSETFROM:-0700
TZOFFSETTO:-0800
TZNAME:PST
DTSTART:20221106T090000
END:STANDARD
BEGIN:DAYLIGHT
TZOFFSETFROM:-0800
TZOFFSETTO:-0700
TZNAME:PDT
DTSTART:20230312T100000
END:DAYLIGHT
BEGIN:STANDARD
TZOFFSETFROM:-0700
TZOFFSETTO:-0800
TZNAME:PST
DTSTART:20231105T090000
END:STANDARD
END:VTIMEZONE
BEGIN:VEVENT
DTSTART;TZID=America/Los_Angeles:20221005T113000
DTEND;TZID=America/Los_Angeles:20221005T123000
DTSTAMP:20260419T173406
CREATED:20210824T224230Z
LAST-MODIFIED:20211115T225354Z
UID:10000822-1664969400-1664973000@mcfhc.org
SUMMARY:Women's and Mom's Support Group
DESCRIPTION:The Women’s and Mom’s group provides support to those currently experiencing or who have previously experienced domestic violence\, housing instability\, at-risk of homelessness\, currently homeless\, and/or in recovery. Research-based parenting programs (Triple P\, Safe Care\, and Families Moving Forward) were utilized to gather the most pertinent and impactful information to create a tailored curriculum. The group focuses on parenting strategies\, trauma informed parenting\, resiliency\, executive functioning\, women empowerment\, and financial education.
URL:https://mcfhc.org/event/womens-and-moms-support-group/2022-10-05/
LOCATION:Tacoma Recovery Center\, 813 M.L.K. Jr Way\, Tacoma\, WA\, 98405\, United States
CATEGORIES:MCFHC Events
END:VEVENT
BEGIN:VEVENT
DTSTART;TZID=America/Los_Angeles:20221007T113000
DTEND;TZID=America/Los_Angeles:20221007T123000
DTSTAMP:20260419T173406
CREATED:20210824T224230Z
LAST-MODIFIED:20211115T225354Z
UID:10000823-1665142200-1665145800@mcfhc.org
SUMMARY:Women's and Mom's Support Group
DESCRIPTION:The Women’s and Mom’s group provides support to those currently experiencing or who have previously experienced domestic violence\, housing instability\, at-risk of homelessness\, currently homeless\, and/or in recovery. Research-based parenting programs (Triple P\, Safe Care\, and Families Moving Forward) were utilized to gather the most pertinent and impactful information to create a tailored curriculum. The group focuses on parenting strategies\, trauma informed parenting\, resiliency\, executive functioning\, women empowerment\, and financial education.
URL:https://mcfhc.org/event/womens-and-moms-support-group/2022-10-07/
LOCATION:Tacoma Recovery Center\, 813 M.L.K. Jr Way\, Tacoma\, WA\, 98405\, United States
CATEGORIES:MCFHC Events
END:VEVENT
BEGIN:VEVENT
DTSTART;TZID=America/Los_Angeles:20221012T113000
DTEND;TZID=America/Los_Angeles:20221012T123000
DTSTAMP:20260419T173406
CREATED:20210824T224230Z
LAST-MODIFIED:20211115T225354Z
UID:10000824-1665574200-1665577800@mcfhc.org
SUMMARY:Women's and Mom's Support Group
DESCRIPTION:The Women’s and Mom’s group provides support to those currently experiencing or who have previously experienced domestic violence\, housing instability\, at-risk of homelessness\, currently homeless\, and/or in recovery. Research-based parenting programs (Triple P\, Safe Care\, and Families Moving Forward) were utilized to gather the most pertinent and impactful information to create a tailored curriculum. The group focuses on parenting strategies\, trauma informed parenting\, resiliency\, executive functioning\, women empowerment\, and financial education.
URL:https://mcfhc.org/event/womens-and-moms-support-group/2022-10-12/
LOCATION:Tacoma Recovery Center\, 813 M.L.K. Jr Way\, Tacoma\, WA\, 98405\, United States
CATEGORIES:MCFHC Events
END:VEVENT
BEGIN:VEVENT
DTSTART;TZID=America/Los_Angeles:20221014T113000
DTEND;TZID=America/Los_Angeles:20221014T123000
DTSTAMP:20260419T173406
CREATED:20210824T224230Z
LAST-MODIFIED:20211115T225354Z
UID:10000825-1665747000-1665750600@mcfhc.org
SUMMARY:Women's and Mom's Support Group
DESCRIPTION:The Women’s and Mom’s group provides support to those currently experiencing or who have previously experienced domestic violence\, housing instability\, at-risk of homelessness\, currently homeless\, and/or in recovery. Research-based parenting programs (Triple P\, Safe Care\, and Families Moving Forward) were utilized to gather the most pertinent and impactful information to create a tailored curriculum. The group focuses on parenting strategies\, trauma informed parenting\, resiliency\, executive functioning\, women empowerment\, and financial education.
URL:https://mcfhc.org/event/womens-and-moms-support-group/2022-10-14/
LOCATION:Tacoma Recovery Center\, 813 M.L.K. Jr Way\, Tacoma\, WA\, 98405\, United States
CATEGORIES:MCFHC Events
END:VEVENT
BEGIN:VEVENT
DTSTART;TZID=America/Los_Angeles:20221019T113000
DTEND;TZID=America/Los_Angeles:20221019T123000
DTSTAMP:20260419T173406
CREATED:20210824T224230Z
LAST-MODIFIED:20211115T225354Z
UID:10000826-1666179000-1666182600@mcfhc.org
SUMMARY:Women's and Mom's Support Group
DESCRIPTION:The Women’s and Mom’s group provides support to those currently experiencing or who have previously experienced domestic violence\, housing instability\, at-risk of homelessness\, currently homeless\, and/or in recovery. Research-based parenting programs (Triple P\, Safe Care\, and Families Moving Forward) were utilized to gather the most pertinent and impactful information to create a tailored curriculum. The group focuses on parenting strategies\, trauma informed parenting\, resiliency\, executive functioning\, women empowerment\, and financial education.
URL:https://mcfhc.org/event/womens-and-moms-support-group/2022-10-19/
LOCATION:Tacoma Recovery Center\, 813 M.L.K. Jr Way\, Tacoma\, WA\, 98405\, United States
CATEGORIES:MCFHC Events
END:VEVENT
BEGIN:VEVENT
DTSTART;TZID=America/Los_Angeles:20221021T113000
DTEND;TZID=America/Los_Angeles:20221021T123000
DTSTAMP:20260419T173406
CREATED:20210824T224230Z
LAST-MODIFIED:20211115T225354Z
UID:10000827-1666351800-1666355400@mcfhc.org
SUMMARY:Women's and Mom's Support Group
DESCRIPTION:The Women’s and Mom’s group provides support to those currently experiencing or who have previously experienced domestic violence\, housing instability\, at-risk of homelessness\, currently homeless\, and/or in recovery. Research-based parenting programs (Triple P\, Safe Care\, and Families Moving Forward) were utilized to gather the most pertinent and impactful information to create a tailored curriculum. The group focuses on parenting strategies\, trauma informed parenting\, resiliency\, executive functioning\, women empowerment\, and financial education.
URL:https://mcfhc.org/event/womens-and-moms-support-group/2022-10-21/
LOCATION:Tacoma Recovery Center\, 813 M.L.K. Jr Way\, Tacoma\, WA\, 98405\, United States
CATEGORIES:MCFHC Events
END:VEVENT
BEGIN:VEVENT
DTSTART;TZID=America/Los_Angeles:20221026T113000
DTEND;TZID=America/Los_Angeles:20221026T123000
DTSTAMP:20260419T173406
CREATED:20210824T224230Z
LAST-MODIFIED:20211115T225354Z
UID:10000828-1666783800-1666787400@mcfhc.org
SUMMARY:Women's and Mom's Support Group
DESCRIPTION:The Women’s and Mom’s group provides support to those currently experiencing or who have previously experienced domestic violence\, housing instability\, at-risk of homelessness\, currently homeless\, and/or in recovery. Research-based parenting programs (Triple P\, Safe Care\, and Families Moving Forward) were utilized to gather the most pertinent and impactful information to create a tailored curriculum. The group focuses on parenting strategies\, trauma informed parenting\, resiliency\, executive functioning\, women empowerment\, and financial education.
URL:https://mcfhc.org/event/womens-and-moms-support-group/2022-10-26/
LOCATION:Tacoma Recovery Center\, 813 M.L.K. Jr Way\, Tacoma\, WA\, 98405\, United States
CATEGORIES:MCFHC Events
END:VEVENT
BEGIN:VEVENT
DTSTART;TZID=America/Los_Angeles:20221028T113000
DTEND;TZID=America/Los_Angeles:20221028T123000
DTSTAMP:20260419T173406
CREATED:20210824T224230Z
LAST-MODIFIED:20211115T225354Z
UID:10000829-1666956600-1666960200@mcfhc.org
SUMMARY:Women's and Mom's Support Group
DESCRIPTION:The Women’s and Mom’s group provides support to those currently experiencing or who have previously experienced domestic violence\, housing instability\, at-risk of homelessness\, currently homeless\, and/or in recovery. Research-based parenting programs (Triple P\, Safe Care\, and Families Moving Forward) were utilized to gather the most pertinent and impactful information to create a tailored curriculum. The group focuses on parenting strategies\, trauma informed parenting\, resiliency\, executive functioning\, women empowerment\, and financial education.
URL:https://mcfhc.org/event/womens-and-moms-support-group/2022-10-28/
LOCATION:Tacoma Recovery Center\, 813 M.L.K. Jr Way\, Tacoma\, WA\, 98405\, United States
CATEGORIES:MCFHC Events
END:VEVENT
END:VCALENDAR