BEGIN:VCALENDAR
VERSION:2.0
PRODID:-//Multicultural Child And Family Hope Center - ECPv6.15.17.1//NONSGML v1.0//EN
CALSCALE:GREGORIAN
METHOD:PUBLISH
X-WR-CALNAME:Multicultural Child And Family Hope Center
X-ORIGINAL-URL:https://mcfhc.org
X-WR-CALDESC:Events for Multicultural Child And Family Hope Center
REFRESH-INTERVAL;VALUE=DURATION:PT1H
X-Robots-Tag:noindex
X-PUBLISHED-TTL:PT1H
BEGIN:VTIMEZONE
TZID:America/Los_Angeles
BEGIN:DAYLIGHT
TZOFFSETFROM:-0800
TZOFFSETTO:-0700
TZNAME:PDT
DTSTART:20210314T100000
END:DAYLIGHT
BEGIN:STANDARD
TZOFFSETFROM:-0700
TZOFFSETTO:-0800
TZNAME:PST
DTSTART:20211107T090000
END:STANDARD
BEGIN:DAYLIGHT
TZOFFSETFROM:-0800
TZOFFSETTO:-0700
TZNAME:PDT
DTSTART:20220313T100000
END:DAYLIGHT
BEGIN:STANDARD
TZOFFSETFROM:-0700
TZOFFSETTO:-0800
TZNAME:PST
DTSTART:20221106T090000
END:STANDARD
BEGIN:DAYLIGHT
TZOFFSETFROM:-0800
TZOFFSETTO:-0700
TZNAME:PDT
DTSTART:20230312T100000
END:DAYLIGHT
BEGIN:STANDARD
TZOFFSETFROM:-0700
TZOFFSETTO:-0800
TZNAME:PST
DTSTART:20231105T090000
END:STANDARD
END:VTIMEZONE
BEGIN:VEVENT
DTSTART;TZID=America/Los_Angeles:20220317T150000
DTEND;TZID=America/Los_Angeles:20220317T200000
DTSTAMP:20260423T104320
CREATED:20220215T224346Z
LAST-MODIFIED:20220215T230451Z
UID:10001179-1647529200-1647547200@mcfhc.org
SUMMARY:Free Museum Admission
DESCRIPTION:Have you been to the Washington State History Museum or the Museum of Glass here in Tacoma? \nThere are free admission days for the whole community on third Thursday of each month. \n  \nWashington State History Museum \n1911 Pacific Avenue Tacoma\, WA 98402 \nFree admission for the History Museum is from 3:00-8:00 PM \n  \nMuseum of Glass \n1801 Dock Street\, Tacoma\, WA 98402 \nFree admission for the Glass Museum is from 5:00-8:00 PM
URL:https://mcfhc.org/event/free-museum-admission/2022-03-17/
CATEGORIES:Community Events
END:VEVENT
BEGIN:VEVENT
DTSTART;TZID=America/Los_Angeles:20220317T170000
DTEND;TZID=America/Los_Angeles:20220317T200000
DTSTAMP:20260423T104320
CREATED:20220215T225335Z
LAST-MODIFIED:20220215T225335Z
UID:10001197-1647536400-1647547200@mcfhc.org
SUMMARY:Free Museum Admission
DESCRIPTION:Visit the Tacoma Art Museum today! \nTAM has Free Neighborhood Nights where they are open late and there is FREE admission for the community every Thursday\, 5 – 8 pm!
URL:https://mcfhc.org/event/free-museum-admission-2/2022-03-17/
LOCATION:Tacoma Art Museum\, 1701 Pacific Avenue\, Tacoma\, WA\, 98402\, United States
CATEGORIES:Community Events
END:VEVENT
BEGIN:VEVENT
DTSTART;TZID=America/Los_Angeles:20220318T190000
DTEND;TZID=America/Los_Angeles:20220318T220000
DTSTAMP:20260423T104321
CREATED:20220302T235722Z
LAST-MODIFIED:20220302T235722Z
UID:10000674-1647630000-1647640800@mcfhc.org
SUMMARY:Teen Late Night
DESCRIPTION:Original event website: Teen Late Night – Metro Parks Tacoma \nTeen Late Night\nNo Pre-registration Necessary! \nLate Night is a FREE event for teens! Join us at your Community Center for late night fun with your friends! We’ll have open gym\, sports\, activities\, and much more! \n \nSTAR Center\n(Boys & Girls Club Schatz Branch)\n1st Friday of every month\n7-10 pm | Grades 6-8\nOpen gym\, sports\, game room\, activities\, and much more \nEastside Community Center\n2nd Friday of every month\n7-10 pm | Grades 6-8\nPool activities\, water sports\, and open swim is available from 7:15-8:15 pm \nCenter at Norpoint\n3rd Friday of every month\n7-10 pm | Grades 6-8\nPool activities\, water sports\, and open swim is available from 7:15-8:15 pm \nPeople’s Community Center\n4th Friday of every month\n8-11 pm | Grades 9-12\nPool activities\, water sports\, and open swim is available from 7:15-8:15 pm
URL:https://mcfhc.org/event/teen-late-night-3/2022-03-18/
LOCATION:Center at Norpoint\, 4818 Nassau Ave NE\, Tacoma\, WA\, 98422\, United States
CATEGORIES:Community Events
END:VEVENT
BEGIN:VEVENT
DTSTART;TZID=America/Los_Angeles:20220319T110000
DTEND;TZID=America/Los_Angeles:20220319T120000
DTSTAMP:20260423T104321
CREATED:20220223T234156Z
LAST-MODIFIED:20220223T234156Z
UID:10001246-1647687600-1647691200@mcfhc.org
SUMMARY:Creative Art Classes - Kids Age under 10
DESCRIPTION:My name is Palak Dhorajiya\, and I am obsessed with creating imaginative art. We will be doing paintings about nature and learning how to blend colors. I will be walking you through a few techniques to make blending easier. This class will be via Zoom. \nThings to have\, but are not required to participate in this class: \n\nPencil\nEraser\nSharpener\nPaper (Thick paper if possible)\nWatercolors or acrylic colors\nBrushes\nRough cloth or bounty (to clean brushes)\n\nFeel free to join the class with whatever materials you have handy and you can still learn a few bits.
URL:https://mcfhc.org/event/creative-art-classes-kids-age-under-10/2022-03-19/
CATEGORIES:Community Events
ORGANIZER;CN="Palak StudioInk":MAILTO:info@palakstudioink.com
END:VEVENT
BEGIN:VEVENT
DTSTART;TZID=America/Los_Angeles:20220319T121500
DTEND;TZID=America/Los_Angeles:20220319T131500
DTSTAMP:20260423T104321
CREATED:20220223T235304Z
LAST-MODIFIED:20220223T235304Z
UID:10001250-1647692100-1647695700@mcfhc.org
SUMMARY:Painting Classes - Age 10+ and Adults
DESCRIPTION:My name is Palak Dhorajiya\, and I am obsessed with creating imaginative art. We will be doing paintings about nature and learning how to blend colors. I will be walking you through a few techniques to make blending easier. This class will be via Zoom. \nThings to have\, but are not required to participate in this class: \n\nPencil\nEraser\nSharpener\nPaper (Thick paper if possible)\nWatercolors or acrylic colors\nBrushes\nRough cloth or bounty (to clean brushes)\n\nFeel free to join the class with whatever materials you have handy and you can still learn a few bits.
URL:https://mcfhc.org/event/painting-classes-age-10-and-adults/2022-03-19/
CATEGORIES:Community Events
ORGANIZER;CN="Palak StudioInk":MAILTO:info@palakstudioink.com
END:VEVENT
END:VCALENDAR