BEGIN:VCALENDAR
VERSION:2.0
PRODID:-//Multicultural Child And Family Hope Center - ECPv6.15.17.1//NONSGML v1.0//EN
CALSCALE:GREGORIAN
METHOD:PUBLISH
X-ORIGINAL-URL:https://mcfhc.org
X-WR-CALDESC:Events for Multicultural Child And Family Hope Center
REFRESH-INTERVAL;VALUE=DURATION:PT1H
X-Robots-Tag:noindex
X-PUBLISHED-TTL:PT1H
BEGIN:VTIMEZONE
TZID:America/Los_Angeles
BEGIN:DAYLIGHT
TZOFFSETFROM:-0800
TZOFFSETTO:-0700
TZNAME:PDT
DTSTART:20210314T100000
END:DAYLIGHT
BEGIN:STANDARD
TZOFFSETFROM:-0700
TZOFFSETTO:-0800
TZNAME:PST
DTSTART:20211107T090000
END:STANDARD
BEGIN:DAYLIGHT
TZOFFSETFROM:-0800
TZOFFSETTO:-0700
TZNAME:PDT
DTSTART:20220313T100000
END:DAYLIGHT
BEGIN:STANDARD
TZOFFSETFROM:-0700
TZOFFSETTO:-0800
TZNAME:PST
DTSTART:20221106T090000
END:STANDARD
BEGIN:DAYLIGHT
TZOFFSETFROM:-0800
TZOFFSETTO:-0700
TZNAME:PDT
DTSTART:20230312T100000
END:DAYLIGHT
BEGIN:STANDARD
TZOFFSETFROM:-0700
TZOFFSETTO:-0800
TZNAME:PST
DTSTART:20231105T090000
END:STANDARD
END:VTIMEZONE
BEGIN:VEVENT
DTSTART;TZID=America/Los_Angeles:20220122T103000
DTEND;TZID=America/Los_Angeles:20220122T113000
DTSTAMP:20260423T210750
CREATED:20220110T202323Z
LAST-MODIFIED:20220110T202323Z
UID:10001163-1642847400-1642851000@mcfhc.org
SUMMARY:The Rainbow Fish Workshop with Tacoma Musical Playhouse
DESCRIPTION:Act out the story with Tacoma Musical Playhouse! \nTMP will teach some basic acting skills through character\, movement/dance and performance work through the book The Rainbow Fish. We will read the story and kids will get to participate in several activities intended to bring the book to life using theater skills! \nPlease note: \n\nOnline registration is required.\nPlease provide an adult’s email address when registering.\nYou’ll receive a link to the Zoom meeting 1 hour before the program.
URL:https://mcfhc.org/event/the-rainbow-fish-workshop-with-tacoma-musical-playhouse/
CATEGORIES:Community Events
ORGANIZER;CN="Tacoma Public Library":MAILTO:info@tacomalibrary.org
END:VEVENT
END:VCALENDAR