BEGIN:VCALENDAR
VERSION:2.0
PRODID:-//Multicultural Child And Family Hope Center - ECPv6.15.17.1//NONSGML v1.0//EN
CALSCALE:GREGORIAN
METHOD:PUBLISH
X-ORIGINAL-URL:https://mcfhc.org
X-WR-CALDESC:Events for Multicultural Child And Family Hope Center
REFRESH-INTERVAL;VALUE=DURATION:PT1H
X-Robots-Tag:noindex
X-PUBLISHED-TTL:PT1H
BEGIN:VTIMEZONE
TZID:America/Los_Angeles
BEGIN:DAYLIGHT
TZOFFSETFROM:-0800
TZOFFSETTO:-0700
TZNAME:PDT
DTSTART:20210314T100000
END:DAYLIGHT
BEGIN:STANDARD
TZOFFSETFROM:-0700
TZOFFSETTO:-0800
TZNAME:PST
DTSTART:20211107T090000
END:STANDARD
BEGIN:DAYLIGHT
TZOFFSETFROM:-0800
TZOFFSETTO:-0700
TZNAME:PDT
DTSTART:20220313T100000
END:DAYLIGHT
BEGIN:STANDARD
TZOFFSETFROM:-0700
TZOFFSETTO:-0800
TZNAME:PST
DTSTART:20221106T090000
END:STANDARD
BEGIN:DAYLIGHT
TZOFFSETFROM:-0800
TZOFFSETTO:-0700
TZNAME:PDT
DTSTART:20230312T100000
END:DAYLIGHT
BEGIN:STANDARD
TZOFFSETFROM:-0700
TZOFFSETTO:-0800
TZNAME:PST
DTSTART:20231105T090000
END:STANDARD
END:VTIMEZONE
BEGIN:VEVENT
DTSTART;TZID=America/Los_Angeles:20220303T170000
DTEND;TZID=America/Los_Angeles:20220303T200000
DTSTAMP:20260423T150514
CREATED:20220215T225335Z
LAST-MODIFIED:20220215T225335Z
UID:10001195-1646326800-1646337600@mcfhc.org
SUMMARY:Free Museum Admission
DESCRIPTION:Visit the Tacoma Art Museum today! \nTAM has Free Neighborhood Nights where they are open late and there is FREE admission for the community every Thursday\, 5 – 8 pm!
URL:https://mcfhc.org/event/free-museum-admission-2/2022-03-03/
LOCATION:Tacoma Art Museum\, 1701 Pacific Avenue\, Tacoma\, WA\, 98402\, United States
CATEGORIES:Community Events
END:VEVENT
BEGIN:VEVENT
DTSTART;TZID=America/Los_Angeles:20220304T190000
DTEND;TZID=America/Los_Angeles:20220304T220000
DTSTAMP:20260423T150514
CREATED:20220302T235400Z
LAST-MODIFIED:20220302T235400Z
UID:10001253-1646420400-1646431200@mcfhc.org
SUMMARY:Teen Late Night
DESCRIPTION:Original event website: Teen Late Night – Metro Parks Tacoma \nTeen Late Night\nNo Pre-registration Necessary! \nLate Night is a FREE event for teens! Join us at your Community Center for late night fun with your friends! We’ll have open gym\, sports\, activities\, and much more! \n \nSTAR Center\n(Boys & Girls Club Schatz Branch)\n1st Friday of every month\n7-10 pm | Grades 6-8\nOpen gym\, sports\, game room\, activities\, and much more \nEastside Community Center\n2nd Friday of every month\n7-10 pm | Grades 6-8\nPool activities\, water sports\, and open swim is available from 7:15-8:15 pm \nCenter at Norpoint\n3rd Friday of every month\n7-10 pm | Grades 6-8\nPool activities\, water sports\, and open swim is available from 7:15-8:15 pm \nPeople’s Community Center\n4th Friday of every month\n8-11 pm | Grades 9-12\nPool activities\, water sports\, and open swim is available from 7:15-8:15 pm
URL:https://mcfhc.org/event/teen-late-night/2022-03-04/
LOCATION:STAR Center\, 3873 S 66th St\, Tacoma\, WA\, 98409\, United States
CATEGORIES:Community Events
END:VEVENT
BEGIN:VEVENT
DTSTART;TZID=America/Los_Angeles:20220305T110000
DTEND;TZID=America/Los_Angeles:20220305T120000
DTSTAMP:20260423T150514
CREATED:20220223T234156Z
LAST-MODIFIED:20220223T234156Z
UID:10001244-1646478000-1646481600@mcfhc.org
SUMMARY:Creative Art Classes - Kids Age under 10
DESCRIPTION:My name is Palak Dhorajiya\, and I am obsessed with creating imaginative art. We will be doing paintings about nature and learning how to blend colors. I will be walking you through a few techniques to make blending easier. This class will be via Zoom. \nThings to have\, but are not required to participate in this class: \n\nPencil\nEraser\nSharpener\nPaper (Thick paper if possible)\nWatercolors or acrylic colors\nBrushes\nRough cloth or bounty (to clean brushes)\n\nFeel free to join the class with whatever materials you have handy and you can still learn a few bits.
URL:https://mcfhc.org/event/creative-art-classes-kids-age-under-10/2022-03-05/
CATEGORIES:Community Events
ORGANIZER;CN="Palak StudioInk":MAILTO:info@palakstudioink.com
END:VEVENT
BEGIN:VEVENT
DTSTART;TZID=America/Los_Angeles:20220305T121500
DTEND;TZID=America/Los_Angeles:20220305T131500
DTSTAMP:20260423T150514
CREATED:20220223T235304Z
LAST-MODIFIED:20220223T235304Z
UID:10001248-1646482500-1646486100@mcfhc.org
SUMMARY:Painting Classes - Age 10+ and Adults
DESCRIPTION:My name is Palak Dhorajiya\, and I am obsessed with creating imaginative art. We will be doing paintings about nature and learning how to blend colors. I will be walking you through a few techniques to make blending easier. This class will be via Zoom. \nThings to have\, but are not required to participate in this class: \n\nPencil\nEraser\nSharpener\nPaper (Thick paper if possible)\nWatercolors or acrylic colors\nBrushes\nRough cloth or bounty (to clean brushes)\n\nFeel free to join the class with whatever materials you have handy and you can still learn a few bits.
URL:https://mcfhc.org/event/painting-classes-age-10-and-adults/2022-03-05/
CATEGORIES:Community Events
ORGANIZER;CN="Palak StudioInk":MAILTO:info@palakstudioink.com
END:VEVENT
BEGIN:VEVENT
DTSTART;TZID=America/Los_Angeles:20220305T130000
DTEND;TZID=America/Los_Angeles:20220305T140000
DTSTAMP:20260423T150514
CREATED:20220215T221235Z
LAST-MODIFIED:20220215T221235Z
UID:10001177-1646485200-1646488800@mcfhc.org
SUMMARY:Ignite: In-Between
DESCRIPTION:At DCFF\, we aim to engage our community and ignite conversations that extend beyond the world of film. This year\, in partnership with SHARE\, Pongo Poetry Project\, and Underground Writing\, DCFF is honored to host a screening of the short film IN BETWEEN along with a conversation by community members involved in programs that support King and Pierce counties’ incarcerated and other underserved communities. \nWritten by a student in the Screenwriting Program at the Washington Corrections Center for Women\, IN BETWEEN (directed by Lindy Boustedt) is based on a true story. Through the lens of a what-if. \nIt’s the late-1980s and Lisa\, a biracial teenager having just moved to Seattle from London\, is forced into a new world when she is segregated to a different school from her white sister. But when she meets a welcoming student at orientation\, everything changes. \nClick here to get tickets!
URL:https://mcfhc.org/event/ignite-in-between/
LOCATION:ALMA\, 1322 Fawcett Ave\, Tacoma\, WA\, 98402\, United States
CATEGORIES:Community Events
END:VEVENT
BEGIN:VEVENT
DTSTART;TZID=America/Los_Angeles:20220310T170000
DTEND;TZID=America/Los_Angeles:20220310T200000
DTSTAMP:20260423T150514
CREATED:20220215T225335Z
LAST-MODIFIED:20220215T225335Z
UID:10001196-1646931600-1646942400@mcfhc.org
SUMMARY:Free Museum Admission
DESCRIPTION:Visit the Tacoma Art Museum today! \nTAM has Free Neighborhood Nights where they are open late and there is FREE admission for the community every Thursday\, 5 – 8 pm!
URL:https://mcfhc.org/event/free-museum-admission-2/2022-03-10/
LOCATION:Tacoma Art Museum\, 1701 Pacific Avenue\, Tacoma\, WA\, 98402\, United States
CATEGORIES:Community Events
END:VEVENT
BEGIN:VEVENT
DTSTART;TZID=America/Los_Angeles:20220311T190000
DTEND;TZID=America/Los_Angeles:20220311T220000
DTSTAMP:20260423T150514
CREATED:20220302T235528Z
LAST-MODIFIED:20220302T235528Z
UID:10000664-1647025200-1647036000@mcfhc.org
SUMMARY:Teen Late Night
DESCRIPTION:Original event website: Teen Late Night – Metro Parks Tacoma \nTeen Late Night\nNo Pre-registration Necessary! \nLate Night is a FREE event for teens! Join us at your Community Center for late night fun with your friends! We’ll have open gym\, sports\, activities\, and much more! \n \nSTAR Center\n(Boys & Girls Club Schatz Branch)\n1st Friday of every month\n7-10 pm | Grades 6-8\nOpen gym\, sports\, game room\, activities\, and much more \nEastside Community Center\n2nd Friday of every month\n7-10 pm | Grades 6-8\nPool activities\, water sports\, and open swim is available from 7:15-8:15 pm \nCenter at Norpoint\n3rd Friday of every month\n7-10 pm | Grades 6-8\nPool activities\, water sports\, and open swim is available from 7:15-8:15 pm \nPeople’s Community Center\n4th Friday of every month\n8-11 pm | Grades 9-12\nPool activities\, water sports\, and open swim is available from 7:15-8:15 pm
URL:https://mcfhc.org/event/teen-late-night-2/2022-03-11/
LOCATION:Eastside Community Center\, 1721 E 56th St\, Tacoma\, WA\, 98404\, United States
CATEGORIES:Community Events
END:VEVENT
BEGIN:VEVENT
DTSTART;TZID=America/Los_Angeles:20220312T110000
DTEND;TZID=America/Los_Angeles:20220312T120000
DTSTAMP:20260423T150514
CREATED:20220223T234156Z
LAST-MODIFIED:20220223T234156Z
UID:10001245-1647082800-1647086400@mcfhc.org
SUMMARY:Creative Art Classes - Kids Age under 10
DESCRIPTION:My name is Palak Dhorajiya\, and I am obsessed with creating imaginative art. We will be doing paintings about nature and learning how to blend colors. I will be walking you through a few techniques to make blending easier. This class will be via Zoom. \nThings to have\, but are not required to participate in this class: \n\nPencil\nEraser\nSharpener\nPaper (Thick paper if possible)\nWatercolors or acrylic colors\nBrushes\nRough cloth or bounty (to clean brushes)\n\nFeel free to join the class with whatever materials you have handy and you can still learn a few bits.
URL:https://mcfhc.org/event/creative-art-classes-kids-age-under-10/2022-03-12/
CATEGORIES:Community Events
ORGANIZER;CN="Palak StudioInk":MAILTO:info@palakstudioink.com
END:VEVENT
BEGIN:VEVENT
DTSTART;TZID=America/Los_Angeles:20220312T121500
DTEND;TZID=America/Los_Angeles:20220312T131500
DTSTAMP:20260423T150514
CREATED:20220223T235304Z
LAST-MODIFIED:20220223T235304Z
UID:10001249-1647087300-1647090900@mcfhc.org
SUMMARY:Painting Classes - Age 10+ and Adults
DESCRIPTION:My name is Palak Dhorajiya\, and I am obsessed with creating imaginative art. We will be doing paintings about nature and learning how to blend colors. I will be walking you through a few techniques to make blending easier. This class will be via Zoom. \nThings to have\, but are not required to participate in this class: \n\nPencil\nEraser\nSharpener\nPaper (Thick paper if possible)\nWatercolors or acrylic colors\nBrushes\nRough cloth or bounty (to clean brushes)\n\nFeel free to join the class with whatever materials you have handy and you can still learn a few bits.
URL:https://mcfhc.org/event/painting-classes-age-10-and-adults/2022-03-12/
CATEGORIES:Community Events
ORGANIZER;CN="Palak StudioInk":MAILTO:info@palakstudioink.com
END:VEVENT
BEGIN:VEVENT
DTSTART;TZID=America/Los_Angeles:20220317T150000
DTEND;TZID=America/Los_Angeles:20220317T200000
DTSTAMP:20260423T150514
CREATED:20220215T224346Z
LAST-MODIFIED:20220215T230451Z
UID:10001179-1647529200-1647547200@mcfhc.org
SUMMARY:Free Museum Admission
DESCRIPTION:Have you been to the Washington State History Museum or the Museum of Glass here in Tacoma? \nThere are free admission days for the whole community on third Thursday of each month. \n  \nWashington State History Museum \n1911 Pacific Avenue Tacoma\, WA 98402 \nFree admission for the History Museum is from 3:00-8:00 PM \n  \nMuseum of Glass \n1801 Dock Street\, Tacoma\, WA 98402 \nFree admission for the Glass Museum is from 5:00-8:00 PM
URL:https://mcfhc.org/event/free-museum-admission/2022-03-17/
CATEGORIES:Community Events
END:VEVENT
BEGIN:VEVENT
DTSTART;TZID=America/Los_Angeles:20220317T170000
DTEND;TZID=America/Los_Angeles:20220317T200000
DTSTAMP:20260423T150514
CREATED:20220215T225335Z
LAST-MODIFIED:20220215T225335Z
UID:10001197-1647536400-1647547200@mcfhc.org
SUMMARY:Free Museum Admission
DESCRIPTION:Visit the Tacoma Art Museum today! \nTAM has Free Neighborhood Nights where they are open late and there is FREE admission for the community every Thursday\, 5 – 8 pm!
URL:https://mcfhc.org/event/free-museum-admission-2/2022-03-17/
LOCATION:Tacoma Art Museum\, 1701 Pacific Avenue\, Tacoma\, WA\, 98402\, United States
CATEGORIES:Community Events
END:VEVENT
BEGIN:VEVENT
DTSTART;TZID=America/Los_Angeles:20220318T190000
DTEND;TZID=America/Los_Angeles:20220318T220000
DTSTAMP:20260423T150514
CREATED:20220302T235722Z
LAST-MODIFIED:20220302T235722Z
UID:10000674-1647630000-1647640800@mcfhc.org
SUMMARY:Teen Late Night
DESCRIPTION:Original event website: Teen Late Night – Metro Parks Tacoma \nTeen Late Night\nNo Pre-registration Necessary! \nLate Night is a FREE event for teens! Join us at your Community Center for late night fun with your friends! We’ll have open gym\, sports\, activities\, and much more! \n \nSTAR Center\n(Boys & Girls Club Schatz Branch)\n1st Friday of every month\n7-10 pm | Grades 6-8\nOpen gym\, sports\, game room\, activities\, and much more \nEastside Community Center\n2nd Friday of every month\n7-10 pm | Grades 6-8\nPool activities\, water sports\, and open swim is available from 7:15-8:15 pm \nCenter at Norpoint\n3rd Friday of every month\n7-10 pm | Grades 6-8\nPool activities\, water sports\, and open swim is available from 7:15-8:15 pm \nPeople’s Community Center\n4th Friday of every month\n8-11 pm | Grades 9-12\nPool activities\, water sports\, and open swim is available from 7:15-8:15 pm
URL:https://mcfhc.org/event/teen-late-night-3/2022-03-18/
LOCATION:Center at Norpoint\, 4818 Nassau Ave NE\, Tacoma\, WA\, 98422\, United States
CATEGORIES:Community Events
END:VEVENT
BEGIN:VEVENT
DTSTART;TZID=America/Los_Angeles:20220319T110000
DTEND;TZID=America/Los_Angeles:20220319T120000
DTSTAMP:20260423T150514
CREATED:20220223T234156Z
LAST-MODIFIED:20220223T234156Z
UID:10001246-1647687600-1647691200@mcfhc.org
SUMMARY:Creative Art Classes - Kids Age under 10
DESCRIPTION:My name is Palak Dhorajiya\, and I am obsessed with creating imaginative art. We will be doing paintings about nature and learning how to blend colors. I will be walking you through a few techniques to make blending easier. This class will be via Zoom. \nThings to have\, but are not required to participate in this class: \n\nPencil\nEraser\nSharpener\nPaper (Thick paper if possible)\nWatercolors or acrylic colors\nBrushes\nRough cloth or bounty (to clean brushes)\n\nFeel free to join the class with whatever materials you have handy and you can still learn a few bits.
URL:https://mcfhc.org/event/creative-art-classes-kids-age-under-10/2022-03-19/
CATEGORIES:Community Events
ORGANIZER;CN="Palak StudioInk":MAILTO:info@palakstudioink.com
END:VEVENT
BEGIN:VEVENT
DTSTART;TZID=America/Los_Angeles:20220319T121500
DTEND;TZID=America/Los_Angeles:20220319T131500
DTSTAMP:20260423T150514
CREATED:20220223T235304Z
LAST-MODIFIED:20220223T235304Z
UID:10001250-1647692100-1647695700@mcfhc.org
SUMMARY:Painting Classes - Age 10+ and Adults
DESCRIPTION:My name is Palak Dhorajiya\, and I am obsessed with creating imaginative art. We will be doing paintings about nature and learning how to blend colors. I will be walking you through a few techniques to make blending easier. This class will be via Zoom. \nThings to have\, but are not required to participate in this class: \n\nPencil\nEraser\nSharpener\nPaper (Thick paper if possible)\nWatercolors or acrylic colors\nBrushes\nRough cloth or bounty (to clean brushes)\n\nFeel free to join the class with whatever materials you have handy and you can still learn a few bits.
URL:https://mcfhc.org/event/painting-classes-age-10-and-adults/2022-03-19/
CATEGORIES:Community Events
ORGANIZER;CN="Palak StudioInk":MAILTO:info@palakstudioink.com
END:VEVENT
BEGIN:VEVENT
DTSTART;TZID=America/Los_Angeles:20220324T170000
DTEND;TZID=America/Los_Angeles:20220324T200000
DTSTAMP:20260423T150514
CREATED:20220215T225335Z
LAST-MODIFIED:20220215T225335Z
UID:10001198-1648141200-1648152000@mcfhc.org
SUMMARY:Free Museum Admission
DESCRIPTION:Visit the Tacoma Art Museum today! \nTAM has Free Neighborhood Nights where they are open late and there is FREE admission for the community every Thursday\, 5 – 8 pm!
URL:https://mcfhc.org/event/free-museum-admission-2/2022-03-24/
LOCATION:Tacoma Art Museum\, 1701 Pacific Avenue\, Tacoma\, WA\, 98402\, United States
CATEGORIES:Community Events
END:VEVENT
BEGIN:VEVENT
DTSTART;TZID=America/Los_Angeles:20220325T200000
DTEND;TZID=America/Los_Angeles:20220325T230000
DTSTAMP:20260423T150514
CREATED:20220302T235927Z
LAST-MODIFIED:20220302T235927Z
UID:10000684-1648238400-1648249200@mcfhc.org
SUMMARY:Teen Late Night
DESCRIPTION:Original event website: Teen Late Night – Metro Parks Tacoma \nTeen Late Night\nNo Pre-registration Necessary! \nLate Night is a FREE event for teens! Join us at your Community Center for late night fun with your friends! We’ll have open gym\, sports\, activities\, and much more! \n \nSTAR Center\n(Boys & Girls Club Schatz Branch)\n1st Friday of every month\n7-10 pm | Grades 6-8\nOpen gym\, sports\, game room\, activities\, and much more \nEastside Community Center\n2nd Friday of every month\n7-10 pm | Grades 6-8\nPool activities\, water sports\, and open swim is available from 7:15-8:15 pm \nCenter at Norpoint\n3rd Friday of every month\n7-10 pm | Grades 6-8\nPool activities\, water sports\, and open swim is available from 7:15-8:15 pm \nPeople’s Community Center\n4th Friday of every month\n8-11 pm | Grades 9-12\nPool activities\, water sports\, and open swim is available from 7:15-8:15 pm
URL:https://mcfhc.org/event/teen-late-night-4/2022-03-25/
LOCATION:People’s Community Center\, 1602 M.L.K. Jr Way\, Tacoma\, WA\, 98405\, United States
CATEGORIES:Community Events
END:VEVENT
BEGIN:VEVENT
DTSTART;TZID=America/Los_Angeles:20220326T110000
DTEND;TZID=America/Los_Angeles:20220326T120000
DTSTAMP:20260423T150514
CREATED:20220223T234156Z
LAST-MODIFIED:20220223T234156Z
UID:10001247-1648292400-1648296000@mcfhc.org
SUMMARY:Creative Art Classes - Kids Age under 10
DESCRIPTION:My name is Palak Dhorajiya\, and I am obsessed with creating imaginative art. We will be doing paintings about nature and learning how to blend colors. I will be walking you through a few techniques to make blending easier. This class will be via Zoom. \nThings to have\, but are not required to participate in this class: \n\nPencil\nEraser\nSharpener\nPaper (Thick paper if possible)\nWatercolors or acrylic colors\nBrushes\nRough cloth or bounty (to clean brushes)\n\nFeel free to join the class with whatever materials you have handy and you can still learn a few bits.
URL:https://mcfhc.org/event/creative-art-classes-kids-age-under-10/2022-03-26/
CATEGORIES:Community Events
ORGANIZER;CN="Palak StudioInk":MAILTO:info@palakstudioink.com
END:VEVENT
BEGIN:VEVENT
DTSTART;TZID=America/Los_Angeles:20220326T121500
DTEND;TZID=America/Los_Angeles:20220326T131500
DTSTAMP:20260423T150514
CREATED:20220223T235304Z
LAST-MODIFIED:20220223T235304Z
UID:10001251-1648296900-1648300500@mcfhc.org
SUMMARY:Painting Classes - Age 10+ and Adults
DESCRIPTION:My name is Palak Dhorajiya\, and I am obsessed with creating imaginative art. We will be doing paintings about nature and learning how to blend colors. I will be walking you through a few techniques to make blending easier. This class will be via Zoom. \nThings to have\, but are not required to participate in this class: \n\nPencil\nEraser\nSharpener\nPaper (Thick paper if possible)\nWatercolors or acrylic colors\nBrushes\nRough cloth or bounty (to clean brushes)\n\nFeel free to join the class with whatever materials you have handy and you can still learn a few bits.
URL:https://mcfhc.org/event/painting-classes-age-10-and-adults/2022-03-26/
CATEGORIES:Community Events
ORGANIZER;CN="Palak StudioInk":MAILTO:info@palakstudioink.com
END:VEVENT
BEGIN:VEVENT
DTSTART;TZID=America/Los_Angeles:20220331T170000
DTEND;TZID=America/Los_Angeles:20220331T200000
DTSTAMP:20260423T150514
CREATED:20220215T225335Z
LAST-MODIFIED:20220215T225335Z
UID:10001199-1648746000-1648756800@mcfhc.org
SUMMARY:Free Museum Admission
DESCRIPTION:Visit the Tacoma Art Museum today! \nTAM has Free Neighborhood Nights where they are open late and there is FREE admission for the community every Thursday\, 5 – 8 pm!
URL:https://mcfhc.org/event/free-museum-admission-2/2022-03-31/
LOCATION:Tacoma Art Museum\, 1701 Pacific Avenue\, Tacoma\, WA\, 98402\, United States
CATEGORIES:Community Events
END:VEVENT
END:VCALENDAR