BEGIN:VCALENDAR
VERSION:2.0
PRODID:-//Multicultural Child And Family Hope Center - ECPv6.15.17.1//NONSGML v1.0//EN
CALSCALE:GREGORIAN
METHOD:PUBLISH
X-WR-CALNAME:Multicultural Child And Family Hope Center
X-ORIGINAL-URL:https://mcfhc.org
X-WR-CALDESC:Events for Multicultural Child And Family Hope Center
REFRESH-INTERVAL;VALUE=DURATION:PT1H
X-Robots-Tag:noindex
X-PUBLISHED-TTL:PT1H
BEGIN:VTIMEZONE
TZID:America/Los_Angeles
BEGIN:DAYLIGHT
TZOFFSETFROM:-0800
TZOFFSETTO:-0700
TZNAME:PDT
DTSTART:20210314T100000
END:DAYLIGHT
BEGIN:STANDARD
TZOFFSETFROM:-0700
TZOFFSETTO:-0800
TZNAME:PST
DTSTART:20211107T090000
END:STANDARD
BEGIN:DAYLIGHT
TZOFFSETFROM:-0800
TZOFFSETTO:-0700
TZNAME:PDT
DTSTART:20220313T100000
END:DAYLIGHT
BEGIN:STANDARD
TZOFFSETFROM:-0700
TZOFFSETTO:-0800
TZNAME:PST
DTSTART:20221106T090000
END:STANDARD
BEGIN:DAYLIGHT
TZOFFSETFROM:-0800
TZOFFSETTO:-0700
TZNAME:PDT
DTSTART:20230312T100000
END:DAYLIGHT
BEGIN:STANDARD
TZOFFSETFROM:-0700
TZOFFSETTO:-0800
TZNAME:PST
DTSTART:20231105T090000
END:STANDARD
END:VTIMEZONE
BEGIN:VEVENT
DTSTART;TZID=America/Los_Angeles:20220110T170000
DTEND;TZID=America/Los_Angeles:20220110T210000
DTSTAMP:20260423T103349
CREATED:20220110T185838Z
LAST-MODIFIED:20220110T185838Z
UID:10000645-1641834000-1641848400@mcfhc.org
SUMMARY:Tacoma Light Trail
DESCRIPTION:Come explore Tacoma’s free winter festival of light art and sound downtown! Drive\, ride or walk around a Trail of over 30 light art exhibits in windows and buildings\, each with their own music or poetry and viewable 5-9pm every night. Join live music\, circus\, spoken word and light art performances 6-8pm Fridays and Saturdays in Tollefson Plaza\, with community art-making\, hot chocolate and food trucks. Free for all ages!
URL:https://mcfhc.org/event/tacoma-light-trail/2022-01-10/
LOCATION:Tollefson Plaza\, 1548 Pacific Ave\, Tacoma\, WA\, 98402\, United States
CATEGORIES:Community Events
END:VEVENT
BEGIN:VEVENT
DTSTART;TZID=America/Los_Angeles:20220111T170000
DTEND;TZID=America/Los_Angeles:20220111T210000
DTSTAMP:20260423T103349
CREATED:20220110T185838Z
LAST-MODIFIED:20220110T185838Z
UID:10000646-1641920400-1641934800@mcfhc.org
SUMMARY:Tacoma Light Trail
DESCRIPTION:Come explore Tacoma’s free winter festival of light art and sound downtown! Drive\, ride or walk around a Trail of over 30 light art exhibits in windows and buildings\, each with their own music or poetry and viewable 5-9pm every night. Join live music\, circus\, spoken word and light art performances 6-8pm Fridays and Saturdays in Tollefson Plaza\, with community art-making\, hot chocolate and food trucks. Free for all ages!
URL:https://mcfhc.org/event/tacoma-light-trail/2022-01-11/
LOCATION:Tollefson Plaza\, 1548 Pacific Ave\, Tacoma\, WA\, 98402\, United States
CATEGORIES:Community Events
END:VEVENT
BEGIN:VEVENT
DTSTART;TZID=America/Los_Angeles:20220112T080000
DTEND;TZID=America/Los_Angeles:20220112T170000
DTSTAMP:20260423T103349
CREATED:20220110T203211Z
LAST-MODIFIED:20220110T203211Z
UID:10001165-1641974400-1642006800@mcfhc.org
SUMMARY:Winter Scavenger Hunt at TPL
DESCRIPTION:Join the Moore and South Tacoma branches throughout December and January for a fun winter scavenger hunt around the library. Find hidden images around the library and see if you can find them all! There will be new pictures each month! Suitable for: Baby & Preschool\, Grades K-5\, Grades 5-8 \nMoore TPL Branch: 215 South 56th St. Tacoma WA 98408 \nSouth Tacoma TPL Branch: 3411 South 56th St. Tacoma WA 98409
URL:https://mcfhc.org/event/winter-scavenger-hunt-at-tpl/2022-01-12/
CATEGORIES:Community Events
ORGANIZER;CN="Tacoma Public Library":MAILTO:info@tacomalibrary.org
END:VEVENT
BEGIN:VEVENT
DTSTART;TZID=America/Los_Angeles:20220112T170000
DTEND;TZID=America/Los_Angeles:20220112T210000
DTSTAMP:20260423T103349
CREATED:20220110T185838Z
LAST-MODIFIED:20220110T185838Z
UID:10000647-1642006800-1642021200@mcfhc.org
SUMMARY:Tacoma Light Trail
DESCRIPTION:Come explore Tacoma’s free winter festival of light art and sound downtown! Drive\, ride or walk around a Trail of over 30 light art exhibits in windows and buildings\, each with their own music or poetry and viewable 5-9pm every night. Join live music\, circus\, spoken word and light art performances 6-8pm Fridays and Saturdays in Tollefson Plaza\, with community art-making\, hot chocolate and food trucks. Free for all ages!
URL:https://mcfhc.org/event/tacoma-light-trail/2022-01-12/
LOCATION:Tollefson Plaza\, 1548 Pacific Ave\, Tacoma\, WA\, 98402\, United States
CATEGORIES:Community Events
END:VEVENT
BEGIN:VEVENT
DTSTART;TZID=America/Los_Angeles:20220112T190000
DTEND;TZID=America/Los_Angeles:20220112T193000
DTSTAMP:20260423T103349
CREATED:20220110T195957Z
LAST-MODIFIED:20220110T203337Z
UID:10001156-1642014000-1642015800@mcfhc.org
SUMMARY:Pajama Storytime with TPL
DESCRIPTION:Join Tacoma Public Library for an evening of stories\, activities\, and songs in a LIVE stortyime for families and children of all ages on Wednesdays at 7:00 pm. \nPlease note: \n\nOnline registration is required.\nPlease provide an adult’s email address when registering.\nYou’ll receive a link to the Zoom meeting 1 hour before the program. \nSuitable for: Baby\, Preschool\, Grades K-5
URL:https://mcfhc.org/event/pajama-storytime/2022-01-12/
CATEGORIES:Community Events
ORGANIZER;CN="Tacoma Public Library":MAILTO:info@tacomalibrary.org
END:VEVENT
BEGIN:VEVENT
DTSTART;TZID=America/Los_Angeles:20220113T170000
DTEND;TZID=America/Los_Angeles:20220113T210000
DTSTAMP:20260423T103349
CREATED:20220110T185838Z
LAST-MODIFIED:20220110T185838Z
UID:10000648-1642093200-1642107600@mcfhc.org
SUMMARY:Tacoma Light Trail
DESCRIPTION:Come explore Tacoma’s free winter festival of light art and sound downtown! Drive\, ride or walk around a Trail of over 30 light art exhibits in windows and buildings\, each with their own music or poetry and viewable 5-9pm every night. Join live music\, circus\, spoken word and light art performances 6-8pm Fridays and Saturdays in Tollefson Plaza\, with community art-making\, hot chocolate and food trucks. Free for all ages!
URL:https://mcfhc.org/event/tacoma-light-trail/2022-01-13/
LOCATION:Tollefson Plaza\, 1548 Pacific Ave\, Tacoma\, WA\, 98402\, United States
CATEGORIES:Community Events
END:VEVENT
BEGIN:VEVENT
DTSTART;TZID=America/Los_Angeles:20220114T170000
DTEND;TZID=America/Los_Angeles:20220114T210000
DTSTAMP:20260423T103349
CREATED:20220110T185838Z
LAST-MODIFIED:20220110T185838Z
UID:10000649-1642179600-1642194000@mcfhc.org
SUMMARY:Tacoma Light Trail
DESCRIPTION:Come explore Tacoma’s free winter festival of light art and sound downtown! Drive\, ride or walk around a Trail of over 30 light art exhibits in windows and buildings\, each with their own music or poetry and viewable 5-9pm every night. Join live music\, circus\, spoken word and light art performances 6-8pm Fridays and Saturdays in Tollefson Plaza\, with community art-making\, hot chocolate and food trucks. Free for all ages!
URL:https://mcfhc.org/event/tacoma-light-trail/2022-01-14/
LOCATION:Tollefson Plaza\, 1548 Pacific Ave\, Tacoma\, WA\, 98402\, United States
CATEGORIES:Community Events
END:VEVENT
BEGIN:VEVENT
DTSTART;TZID=America/Los_Angeles:20220115T170000
DTEND;TZID=America/Los_Angeles:20220115T210000
DTSTAMP:20260423T103349
CREATED:20220110T185838Z
LAST-MODIFIED:20220110T185838Z
UID:10000650-1642266000-1642280400@mcfhc.org
SUMMARY:Tacoma Light Trail
DESCRIPTION:Come explore Tacoma’s free winter festival of light art and sound downtown! Drive\, ride or walk around a Trail of over 30 light art exhibits in windows and buildings\, each with their own music or poetry and viewable 5-9pm every night. Join live music\, circus\, spoken word and light art performances 6-8pm Fridays and Saturdays in Tollefson Plaza\, with community art-making\, hot chocolate and food trucks. Free for all ages!
URL:https://mcfhc.org/event/tacoma-light-trail/2022-01-15/
LOCATION:Tollefson Plaza\, 1548 Pacific Ave\, Tacoma\, WA\, 98402\, United States
CATEGORIES:Community Events
END:VEVENT
BEGIN:VEVENT
DTSTART;TZID=America/Los_Angeles:20220116T170000
DTEND;TZID=America/Los_Angeles:20220116T210000
DTSTAMP:20260423T103349
CREATED:20220110T185838Z
LAST-MODIFIED:20220110T185838Z
UID:10000651-1642352400-1642366800@mcfhc.org
SUMMARY:Tacoma Light Trail
DESCRIPTION:Come explore Tacoma’s free winter festival of light art and sound downtown! Drive\, ride or walk around a Trail of over 30 light art exhibits in windows and buildings\, each with their own music or poetry and viewable 5-9pm every night. Join live music\, circus\, spoken word and light art performances 6-8pm Fridays and Saturdays in Tollefson Plaza\, with community art-making\, hot chocolate and food trucks. Free for all ages!
URL:https://mcfhc.org/event/tacoma-light-trail/2022-01-16/
LOCATION:Tollefson Plaza\, 1548 Pacific Ave\, Tacoma\, WA\, 98402\, United States
CATEGORIES:Community Events
END:VEVENT
BEGIN:VEVENT
DTSTART;TZID=America/Los_Angeles:20220117T110000
DTEND;TZID=America/Los_Angeles:20220117T130000
DTSTAMP:20260423T103349
CREATED:20220110T190439Z
LAST-MODIFIED:20220110T190439Z
UID:10000652-1642417200-1642424400@mcfhc.org
SUMMARY:Awakening Dreams: MLK Day
DESCRIPTION:The Imagine Justice Project and community partners are coming together to honor and celebrate the life\, message\, and accomplishments of Dr. Martin Luther King Jr. They’re planning a fun day of community building for the whole family. Eat food\, do crafts\, play games and win prizes all while getting connected to community resources at no cost!
URL:https://mcfhc.org/event/awakening-dreams-mlk-day/
LOCATION:Eastside Community Center\, 1721 E 56th St\, Tacoma\, WA\, 98404\, United States
CATEGORIES:Community Events
END:VEVENT
BEGIN:VEVENT
DTSTART;TZID=America/Los_Angeles:20220119T080000
DTEND;TZID=America/Los_Angeles:20220119T170000
DTSTAMP:20260423T103349
CREATED:20220110T203211Z
LAST-MODIFIED:20220110T203211Z
UID:10001166-1642579200-1642611600@mcfhc.org
SUMMARY:Winter Scavenger Hunt at TPL
DESCRIPTION:Join the Moore and South Tacoma branches throughout December and January for a fun winter scavenger hunt around the library. Find hidden images around the library and see if you can find them all! There will be new pictures each month! Suitable for: Baby & Preschool\, Grades K-5\, Grades 5-8 \nMoore TPL Branch: 215 South 56th St. Tacoma WA 98408 \nSouth Tacoma TPL Branch: 3411 South 56th St. Tacoma WA 98409
URL:https://mcfhc.org/event/winter-scavenger-hunt-at-tpl/2022-01-19/
CATEGORIES:Community Events
ORGANIZER;CN="Tacoma Public Library":MAILTO:info@tacomalibrary.org
END:VEVENT
BEGIN:VEVENT
DTSTART;TZID=America/Los_Angeles:20220119T190000
DTEND;TZID=America/Los_Angeles:20220119T193000
DTSTAMP:20260423T103349
CREATED:20220110T195957Z
LAST-MODIFIED:20220110T203337Z
UID:10001157-1642618800-1642620600@mcfhc.org
SUMMARY:Pajama Storytime with TPL
DESCRIPTION:Join Tacoma Public Library for an evening of stories\, activities\, and songs in a LIVE stortyime for families and children of all ages on Wednesdays at 7:00 pm. \nPlease note: \n\nOnline registration is required.\nPlease provide an adult’s email address when registering.\nYou’ll receive a link to the Zoom meeting 1 hour before the program. \nSuitable for: Baby\, Preschool\, Grades K-5
URL:https://mcfhc.org/event/pajama-storytime/2022-01-19/
CATEGORIES:Community Events
ORGANIZER;CN="Tacoma Public Library":MAILTO:info@tacomalibrary.org
END:VEVENT
BEGIN:VEVENT
DTSTART;TZID=America/Los_Angeles:20220122T103000
DTEND;TZID=America/Los_Angeles:20220122T113000
DTSTAMP:20260423T103349
CREATED:20220110T202323Z
LAST-MODIFIED:20220110T202323Z
UID:10001163-1642847400-1642851000@mcfhc.org
SUMMARY:The Rainbow Fish Workshop with Tacoma Musical Playhouse
DESCRIPTION:Act out the story with Tacoma Musical Playhouse! \nTMP will teach some basic acting skills through character\, movement/dance and performance work through the book The Rainbow Fish. We will read the story and kids will get to participate in several activities intended to bring the book to life using theater skills! \nPlease note: \n\nOnline registration is required.\nPlease provide an adult’s email address when registering.\nYou’ll receive a link to the Zoom meeting 1 hour before the program.
URL:https://mcfhc.org/event/the-rainbow-fish-workshop-with-tacoma-musical-playhouse/
CATEGORIES:Community Events
ORGANIZER;CN="Tacoma Public Library":MAILTO:info@tacomalibrary.org
END:VEVENT
BEGIN:VEVENT
DTSTART;TZID=America/Los_Angeles:20220125T120000
DTEND;TZID=America/Los_Angeles:20220125T200000
DTSTAMP:20260423T103349
CREATED:20220110T202518Z
LAST-MODIFIED:20220110T202518Z
UID:10001164-1643112000-1643140800@mcfhc.org
SUMMARY:TPL Kit: Lunar New Year
DESCRIPTION:Celebrate The Year of the Tiger with a festive Lunar New Year craft with all supplies included. No registration is required. \nVisit any Tacoma Public Library branch starting Tuesday\, January 25th to pick up a kit while supplies last. \nProgram kits are a fun way to bring our arts and crafts activities home with you. There is no live program element to program kits —take one home and let it spark your creativity!
URL:https://mcfhc.org/event/tpl-kit-lunar-new-year/
CATEGORIES:Community Events
ORGANIZER;CN="Tacoma Public Library":MAILTO:info@tacomalibrary.org
END:VEVENT
BEGIN:VEVENT
DTSTART;TZID=America/Los_Angeles:20220126T080000
DTEND;TZID=America/Los_Angeles:20220126T170000
DTSTAMP:20260423T103349
CREATED:20220110T203211Z
LAST-MODIFIED:20220110T203211Z
UID:10001167-1643184000-1643216400@mcfhc.org
SUMMARY:Winter Scavenger Hunt at TPL
DESCRIPTION:Join the Moore and South Tacoma branches throughout December and January for a fun winter scavenger hunt around the library. Find hidden images around the library and see if you can find them all! There will be new pictures each month! Suitable for: Baby & Preschool\, Grades K-5\, Grades 5-8 \nMoore TPL Branch: 215 South 56th St. Tacoma WA 98408 \nSouth Tacoma TPL Branch: 3411 South 56th St. Tacoma WA 98409
URL:https://mcfhc.org/event/winter-scavenger-hunt-at-tpl/2022-01-26/
CATEGORIES:Community Events
ORGANIZER;CN="Tacoma Public Library":MAILTO:info@tacomalibrary.org
END:VEVENT
BEGIN:VEVENT
DTSTART;TZID=America/Los_Angeles:20220126T190000
DTEND;TZID=America/Los_Angeles:20220126T193000
DTSTAMP:20260423T103349
CREATED:20220110T195957Z
LAST-MODIFIED:20220110T203337Z
UID:10001158-1643223600-1643225400@mcfhc.org
SUMMARY:Pajama Storytime with TPL
DESCRIPTION:Join Tacoma Public Library for an evening of stories\, activities\, and songs in a LIVE stortyime for families and children of all ages on Wednesdays at 7:00 pm. \nPlease note: \n\nOnline registration is required.\nPlease provide an adult’s email address when registering.\nYou’ll receive a link to the Zoom meeting 1 hour before the program. \nSuitable for: Baby\, Preschool\, Grades K-5
URL:https://mcfhc.org/event/pajama-storytime/2022-01-26/
CATEGORIES:Community Events
ORGANIZER;CN="Tacoma Public Library":MAILTO:info@tacomalibrary.org
END:VEVENT
END:VCALENDAR